BEGIN:VCALENDAR
VERSION:2.0
PRODID:-//Gdańska Okręgowa Izba Aptekarska - ECPv5.6.0//NONSGML v1.0//EN
CALSCALE:GREGORIAN
METHOD:PUBLISH
X-WR-CALNAME:Gdańska Okręgowa Izba Aptekarska
X-ORIGINAL-URL:https://oldcopy.goia.pl
X-WR-CALDESC:Events for Gdańska Okręgowa Izba Aptekarska
BEGIN:VTIMEZONE
TZID:Europe/Warsaw
BEGIN:DAYLIGHT
TZOFFSETFROM:+0100
TZOFFSETTO:+0200
TZNAME:CEST
DTSTART:20210328T010000
END:DAYLIGHT
BEGIN:STANDARD
TZOFFSETFROM:+0200
TZOFFSETTO:+0100
TZNAME:CET
DTSTART:20211031T010000
END:STANDARD
END:VTIMEZONE
BEGIN:VEVENT
DTSTART;TZID=Europe/Warsaw:20211103T190000
DTEND;TZID=Europe/Warsaw:20211103T210000
DTSTAMP:20260421T103427
CREATED:20211028T104202Z
LAST-MODIFIED:20211028T104202Z
UID:2420-1635966000-1635973200@oldcopy.goia.pl
SUMMARY:FARMACEUTA - KIEROWNIK APTEKI PO WEJŚCIU W ŻYCIE USTAWY O ZAWODZIE FARMACEUTY
DESCRIPTION:Serdecznie zapraszamy na certyfikowany webinar organizowany przez Naczelną Izbę Aptekarską we współpracy firmą GSK\,  który odbędzie się 3 listopada 2021 o 19:00. \nWykład „Farmaceuta- kierownik apteki po wejściu w życie Ustawy o zawodzie farmaceuty” poprowadzi Marian Witkowski\, Konsultant Farmaceutyczny przy Naczelnej Radzie Aptekarskiej. \nZa udział w wydarzeniu będzie można otrzymać 2 punkty edukacyjne.
URL:https://oldcopy.goia.pl/wydarzenie/farmaceuta-kierownik-apteki-po-wejsciu-w-zycie-ustawy-o-zawodzie-farmaceuty/
CATEGORIES:Inne,Kursy i szkolenia
END:VEVENT
BEGIN:VEVENT
DTSTART;VALUE=DATE:20211105
DTEND;VALUE=DATE:20211106
DTSTAMP:20260421T103427
CREATED:20211104T094148Z
LAST-MODIFIED:20211104T094148Z
UID:2438-1636070400-1636156799@oldcopy.goia.pl
SUMMARY:Bezpłatnych szkoleniaorganizowane przez Agencję Oceny Technologii Medycznych i Taryfikacji
DESCRIPTION:Szanowni Państwo\, \nw imieniu Agencji Oceny Technologii Medycznych i Taryfikacji serdecznie zapraszam do wzięcia udziału w bezpłatnych szkoleniach online\, organizowanych przez Agencję Oceny Technologii Medycznych i Taryfikacji\, w ramach projektu szkoleniowego: \,\,Racjonalne decyzje w systemie ochrony zdrowia\, ze szczególnym uwzględnieniem regionalnej polityki zdrowotnej”. \nWIĘCEJ INFORMACJI – REJESTRACJA \n 
URL:https://oldcopy.goia.pl/wydarzenie/bezplatnych-szkoleniaorganizowane-przez-agencje-oceny-technologii-medycznych-i-taryfikacji/
CATEGORIES:Inne,Kursy i szkolenia
END:VEVENT
BEGIN:VEVENT
DTSTART;TZID=Europe/Warsaw:20211109T190000
DTEND;TZID=Europe/Warsaw:20211109T210000
DTSTAMP:20260421T103427
CREATED:20211105T113909Z
LAST-MODIFIED:20211105T114440Z
UID:2452-1636484400-1636491600@oldcopy.goia.pl
SUMMARY:Nowoczesne metody leczenia zakażenia układu moczowego i górnych dróg oddechowych
DESCRIPTION:Serdecznie zapraszamy na certyfikowany webinar organizowany przez Naczelną Izbę Aptekarską we współpracy z firmą Klosterfrau\, który odbędzie się 9 listopada 2021 o 19:00. Wykład „Nowoczesne metody leczenia zakażenia układu moczowego i górnych dróg oddechowych” poprowadzą dr hab. Sławomir Poletajew oraz dr n. med. Paweł Dobrzyński. Za udział w wydarzeniu będzie można otrzymać 2 punkty edukacyjne. \nWIĘCEJ INFORMACJI – REJESTRACJA
URL:https://oldcopy.goia.pl/wydarzenie/nowoczesne-metody-leczenia-zakazenia-ukladu-moczowego-i-gornych-drog-oddechowych-2/
CATEGORIES:Inne,Kursy i szkolenia
ATTACH;FMTTYPE=image/jpeg:https://oldcopy.goia.pl/wp-content/uploads/2021/04/laptop-2452814_640-e1619778291291.jpg
END:VEVENT
BEGIN:VEVENT
DTSTART;TZID=Europe/Warsaw:20211125T110000
DTEND;TZID=Europe/Warsaw:20211125T130000
DTSTAMP:20260421T103427
CREATED:20211123T093746Z
LAST-MODIFIED:20211123T093746Z
UID:2568-1637838000-1637845200@oldcopy.goia.pl
SUMMARY:Co zrobić ze źle wypisaną receptą na lek robiony?
DESCRIPTION:  \nLink do rejestracji\n 
URL:https://oldcopy.goia.pl/wydarzenie/co-zrobic-ze-zle-wypisana-recepta-na-lek-robiony/
CATEGORIES:Inne,Kursy i szkolenia
ATTACH;FMTTYPE=image/png:https://oldcopy.goia.pl/wp-content/uploads/2021/11/szkolenie.png
END:VEVENT
END:VCALENDAR