BEGIN:VCALENDAR
VERSION:2.0
PRODID:-//Gdańska Okręgowa Izba Aptekarska - ECPv5.6.0//NONSGML v1.0//EN
CALSCALE:GREGORIAN
METHOD:PUBLISH
X-WR-CALNAME:Gdańska Okręgowa Izba Aptekarska
X-ORIGINAL-URL:https://oldcopy.goia.pl
X-WR-CALDESC:Events for Gdańska Okręgowa Izba Aptekarska
BEGIN:VTIMEZONE
TZID:Europe/Warsaw
BEGIN:DAYLIGHT
TZOFFSETFROM:+0100
TZOFFSETTO:+0200
TZNAME:CEST
DTSTART:20210328T010000
END:DAYLIGHT
BEGIN:STANDARD
TZOFFSETFROM:+0200
TZOFFSETTO:+0100
TZNAME:CET
DTSTART:20211031T010000
END:STANDARD
END:VTIMEZONE
BEGIN:VEVENT
DTSTART;TZID=Europe/Warsaw:20210615T190000
DTEND;TZID=Europe/Warsaw:20210615T200000
DTSTAMP:20260419T145932
CREATED:20210611T110008Z
LAST-MODIFIED:20210611T110008Z
UID:1582-1623783600-1623787200@oldcopy.goia.pl
SUMMARY:Alergia. Jak rozpoznać i leczyć reakcje alergiczne?
DESCRIPTION:Serdecznie zapraszamy na certyfikowany webinar organizowany przez Naczelną Izbę Aptekarską we współpracy z firmą GSK\,  który odbędzie się 15 czerwca 2021 o 19:00. \n„Alergia. Jak rozpoznać i leczyć reakcje alergiczne?” \nLink do rejestracji
URL:https://oldcopy.goia.pl/wydarzenie/alergia-jak-rozpoznac-i-leczyc-reakcje-alergiczne/
CATEGORIES:Szkolenia internetowe
ATTACH;FMTTYPE=image/png:https://oldcopy.goia.pl/wp-content/uploads/2021/04/laptop-5568038_640-1-e1619779059371.png
END:VEVENT
END:VCALENDAR