BEGIN:VCALENDAR
VERSION:2.0
PRODID:-//Gdańska Okręgowa Izba Aptekarska - ECPv5.6.0//NONSGML v1.0//EN
CALSCALE:GREGORIAN
METHOD:PUBLISH
X-WR-CALNAME:Gdańska Okręgowa Izba Aptekarska
X-ORIGINAL-URL:https://oldcopy.goia.pl
X-WR-CALDESC:Events for Gdańska Okręgowa Izba Aptekarska
BEGIN:VTIMEZONE
TZID:Europe/Warsaw
BEGIN:DAYLIGHT
TZOFFSETFROM:+0100
TZOFFSETTO:+0200
TZNAME:CEST
DTSTART:20210328T010000
END:DAYLIGHT
BEGIN:STANDARD
TZOFFSETFROM:+0200
TZOFFSETTO:+0100
TZNAME:CET
DTSTART:20211031T010000
END:STANDARD
END:VTIMEZONE
BEGIN:VEVENT
DTSTART;TZID=Europe/Warsaw:20210525T130000
DTEND;TZID=Europe/Warsaw:20210525T150000
DTSTAMP:20260419T165107
CREATED:20210517T083333Z
LAST-MODIFIED:20210517T083333Z
UID:1428-1621947600-1621954800@oldcopy.goia.pl
SUMMARY:Posiedzenie GORA
DESCRIPTION:
URL:https://oldcopy.goia.pl/wydarzenie/posiedzenie-gora/
CATEGORIES:Inne
END:VEVENT
BEGIN:VEVENT
DTSTART;TZID=Europe/Warsaw:20210525T190000
DTEND;TZID=Europe/Warsaw:20210525T200000
DTSTAMP:20260419T165107
CREATED:20210524T064837Z
LAST-MODIFIED:20210524T092331Z
UID:1480-1621969200-1621972800@oldcopy.goia.pl
SUMMARY:ZDROWY UŚMIECH SENIORA – PACJENT PROTETYCZNY W APTECE
DESCRIPTION:Serdecznie zapraszamy na certyfikowany webinar organizowany przez Naczelną Izbę Aptekarską we współpracy z firmą GSK\,  który odbędzie się 25 maja 2021 o 19:00 pt. „Zdrowy uśmiech seniora – pacjent protetyczny w aptece” \nWięcej informacji
URL:https://oldcopy.goia.pl/wydarzenie/zdrowy-usmiech-seniora-pacjent-protetyczny-w-aptece/
ATTACH;FMTTYPE=image/png:https://oldcopy.goia.pl/wp-content/uploads/2021/05/NIA-baner-glowny-strony-webinary-1140x395-2-e1620390127734.png
END:VEVENT
END:VCALENDAR